BEGIN:VCALENDAR
VERSION:2.0
PRODID:-//CraftUnity.si - ECPv6.2.4//NONSGML v1.0//EN
CALSCALE:GREGORIAN
METHOD:PUBLISH
X-WR-CALNAME:CraftUnity.si
X-ORIGINAL-URL:https://www.craftunity.si
X-WR-CALDESC:Events for CraftUnity.si
REFRESH-INTERVAL;VALUE=DURATION:PT1H
X-Robots-Tag:noindex
X-PUBLISHED-TTL:PT1H
BEGIN:VTIMEZONE
TZID:Europe/Helsinki
BEGIN:DAYLIGHT
TZOFFSETFROM:+0200
TZOFFSETTO:+0300
TZNAME:EEST
DTSTART:20210328T010000
END:DAYLIGHT
BEGIN:STANDARD
TZOFFSETFROM:+0300
TZOFFSETTO:+0200
TZNAME:EET
DTSTART:20211031T010000
END:STANDARD
BEGIN:DAYLIGHT
TZOFFSETFROM:+0200
TZOFFSETTO:+0300
TZNAME:EEST
DTSTART:20220327T010000
END:DAYLIGHT
BEGIN:STANDARD
TZOFFSETFROM:+0300
TZOFFSETTO:+0200
TZNAME:EET
DTSTART:20221030T010000
END:STANDARD
BEGIN:DAYLIGHT
TZOFFSETFROM:+0200
TZOFFSETTO:+0300
TZNAME:EEST
DTSTART:20230326T010000
END:DAYLIGHT
BEGIN:STANDARD
TZOFFSETFROM:+0300
TZOFFSETTO:+0200
TZNAME:EET
DTSTART:20231029T010000
END:STANDARD
END:VTIMEZONE
BEGIN:VEVENT
DTSTART;TZID=Europe/Helsinki:20230909T150000
DTEND;TZID=Europe/Helsinki:20230909T210000
DTSTAMP:20260420T181650
CREATED:20230827T195402Z
LAST-MODIFIED:20230827T195404Z
UID:4386-1694271600-1694293200@www.craftunity.si
SUMMARY:BEER\, BLUES and BBQ
DESCRIPTION:Vsi vemo\, da ni boljše kombinacije kot žar\, pivo in dobra glasba. Zato v soboto\, 9. septembra\, od 15. ure dalje na velikem dvorišču Točilnice LOO-BLAH-NAH pripravljajo piknik s pravim ameriškim low & slow BBQ.
URL:https://www.craftunity.si/dogodki/beer-blues-and-bbq/
LOCATION:Točilnica LOO-BLAH-NAH\, Cesta 24. junija 25\, Ljubljana\, 1000\, Slovenia
CATEGORIES:Hrana in pivo
ATTACH;FMTTYPE=image/jpeg:https://www.craftunity.si/wp-content/uploads/2023/08/366243468_753223233480938_7015129723799300614_n.jpg
END:VEVENT
BEGIN:VEVENT
DTSTART;TZID=Europe/Helsinki:20230902T140000
DTEND;TZID=Europe/Helsinki:20230902T220000
DTSTAMP:20260420T181650
CREATED:20230827T195112Z
LAST-MODIFIED:20230827T195114Z
UID:4381-1693663200-1693692000@www.craftunity.si
SUMMARY:Pivomanija
DESCRIPTION:Dvignite kozarce in pridružite se praznovanju obletnice vseh obletnic – 10. let Pivomanije & Pivovarne Pelicon!  \n\n\n\nSkozi leta se je Pivomanija razvila v legendarno druženje pivskih navdušencev\, in komaj čakajo\, da izpeljejo najbolj noro praznovanje doslej. Označite si datum in se pripravite na pivsko pustolovščino\, kot je še ni bilo!
URL:https://www.craftunity.si/dogodki/pivomanija/
LOCATION:Gregorčičeva ulica 28\, SI- 5270 Ajdovščina\, Slovenija\, Gregorčičeva ulica 28\, Ajdovščina\, 5270
CATEGORIES:Hrana in pivo
ATTACH;FMTTYPE=image/jpeg:https://www.craftunity.si/wp-content/uploads/2023/07/363305345_679815694163554_202565041752570540_n.jpg
END:VEVENT
BEGIN:VEVENT
DTSTART;TZID=Europe/Helsinki:20230527T110000
DTEND;TZID=Europe/Helsinki:20230528T210000
DTSTAMP:20260420T181650
CREATED:20230507T191309Z
LAST-MODIFIED:20230507T192001Z
UID:4282-1685185200-1685307600@www.craftunity.si
SUMMARY:Pivo in burger fest
DESCRIPTION:Na Pogačarjev trg se v soboto in nedeljo\, 27. in 28. maja 2023\, vrača Pivo & Burger Fest\, festival\, ki na enem mestu predstavlja najplemenitejše burgerje naše dežele in najžlahtnejše hmeljne zvarke od blizu in daleč.  \nZadnji vikend maja si torej rezervirajte za veličastno zabavo v družbi imenitnega para – piva in burgerja\, ki jih bodo okronali z živahno glasbo in dobrim razpoloženjem. \nNa Pogačarjevem trgu vas bodo slavnostno sprejemali v soboto od 11. do 23.\, v nedeljo pa od 11. do 21. ure.
URL:https://www.craftunity.si/dogodki/pivo-in-burger-fest-2/
LOCATION:Pogačarjev trg\, Pogačarjev trg\, Ljubljana\, 1000
CATEGORIES:Hrana in pivo
ATTACH;FMTTYPE=image/jpeg:https://www.craftunity.si/wp-content/uploads/2023/05/PB-2023.jpg
END:VEVENT
BEGIN:VEVENT
DTSTART;TZID=Europe/Helsinki:20221001T170000
DTEND;TZID=Europe/Helsinki:20221001T233000
DTSTAMP:20260420T181650
CREATED:20220925T153959Z
LAST-MODIFIED:20220925T154003Z
UID:3729-1664643600-1664667000@www.craftunity.si
SUMMARY:6. Savinjski Oktoberfest in hmeljarski likof
DESCRIPTION:Oktobra bo v Žalcu potekal 6. Savinjski Oktoberfest in hmeljarski likof. Slavnostno otvoritev bo zaznamovalo zbijanje pipe v sod\, pripravljenih pa je več kot 14 tisoč vrčkov piva. Na Oktoberfestu bodo obiskovalce zabavali Godba in mažoretna skupina Laško\, skupina Chicas in grupa Vigor. Savinjski Oktoberfest\, kjer bodo zbirali tudi nalepši dirndl in najštevilčnejšo lederhosen skupino\, bosta obiskali tudi nemška hmeljska kraljica in vice hmeljska kraljica.
URL:https://www.craftunity.si/dogodki/6-savinjski-oktoberfest-in-hmeljarski-likof/
LOCATION:Pivska fontana Žalec\, Savinska cesta 14\, Žalec\, Slovenia
CATEGORIES:Hrana in pivo
ATTACH;FMTTYPE=image/jpeg:https://www.craftunity.si/wp-content/uploads/2022/09/281066231_2844108605894624_5798142120275454685_n.jpg
END:VEVENT
BEGIN:VEVENT
DTSTART;TZID=Europe/Helsinki:20220715T000000
DTEND;TZID=Europe/Helsinki:20220717T235959
DTSTAMP:20260420T181650
CREATED:20220626T143938Z
LAST-MODIFIED:20220626T143940Z
UID:3396-1657843200-1658102399@www.craftunity.si
SUMMARY:Pivo in cvetje
DESCRIPTION:Pivo in cvetje je največji in hkrati najstarejši turistični dogodek z neprekinjeno zgodovino v Sloveniji.\n \n\n\nVsako leto zvarimo sveže pivo\, vsako leto zraste novo cvetje in vsako leto se nam utrne kakšna nova ideja\, kako Laško pokazati v novi luči.\n \n\n\nObljubljamo vam\, da vas bomo izzvali\, presenetili in nagradili s festivalsko izkušnjo leta.\n \n\n\nS partnerji bomo počasi razkrivali program in novosti\, vi pa si v koledar zebeležite 15.\, 16. in 17. julij!\n \n\n\nSe vidimo v Laškem!
URL:https://www.craftunity.si/dogodki/pivo-in-cvetje/
CATEGORIES:Hrana in pivo
ATTACH;FMTTYPE=image/jpeg:https://www.craftunity.si/wp-content/uploads/2022/06/lasko-pic-laskoeu-960x540-maj22_767x425.jpg
END:VEVENT
BEGIN:VEVENT
DTSTART;TZID=Europe/Helsinki:20220617T160000
DTEND;TZID=Europe/Helsinki:20220618T233000
DTSTAMP:20260420T181650
CREATED:20220613T093113Z
LAST-MODIFIED:20220613T093314Z
UID:3365-1655481600-1655595000@www.craftunity.si
SUMMARY:Komasutra
DESCRIPTION:Komasutra BEER Festival 2k22 + ATV srečanje v petek\, 17. junija\, od 16. ure dalje! \nNajvečji pivovarski dogodek leta.\n \nŽe četrto leto v Spodnjih Grušovljah pivovarna Green Gold Brewing organizira pivski festival Komasutra\, ki bo tokrat potekal kar DVA dni! \n \nKot vsako leto\, bomo tudi letos ponudili pester izbor točenega piva na kar dvajsetih pipah. \nZa kulinarično razvajanje\, ki je vedno del naše pestre festivalske ponudbe pa bodo poskrbeli lokalni ponudniki. Pri njih boste našli pečat avtohtonih slovenskih jedi s tega območja\, okušali pa boste lahko sezonsko in lokalno pridelano hrano. \n \nSeveda pa smo za vas pripravili tudi pester glasbeni program.
URL:https://www.craftunity.si/dogodki/komasutra/
CATEGORIES:Hrana in pivo
ATTACH;FMTTYPE=image/jpeg:https://www.craftunity.si/wp-content/uploads/2022/06/273784646_3277499589197913_1250262773018376719_n.jpg
END:VEVENT
BEGIN:VEVENT
DTSTART;TZID=Europe/Helsinki:20220514T170000
DTEND;TZID=Europe/Helsinki:20220514T230000
DTSTAMP:20260420T181650
CREATED:20220503T175032Z
LAST-MODIFIED:20220503T175034Z
UID:3249-1652547600-1652569200@www.craftunity.si
SUMMARY:Naj pivo Slovenije 2022
DESCRIPTION:Naj piva Slovenije bodo letos postregla z odličnimi pivi in tudi z vrhunsko kulinarično ponudbo\, za glasbeno zabavo pa bo poskrbela Nika Zorjan\nPri fontani piv boste lahko 14. maja 2022 od 17. ure dalje okušali vrhunsko hrano JRE mojstrov. Za vas bodo hrano pripravljali Marko Pavčnik\, Marko Magajne in Tomaž Bratovž.\nVljudno vabljeni!
URL:https://www.craftunity.si/dogodki/naj-pivo-slovenije-2022/
LOCATION:Fontana piv Zeleno zlato\, Savinjska cesta 11\, Žalec\, 3310\, Slovenia
CATEGORIES:Hrana in pivo
ATTACH;FMTTYPE=image/jpeg:https://www.craftunity.si/wp-content/uploads/2022/05/278509433_418537026942234_8808610613590134432_n.jpg
END:VEVENT
BEGIN:VEVENT
DTSTART;TZID=Europe/Helsinki:20220305T150000
DTEND;TZID=Europe/Helsinki:20220305T200000
DTSTAMP:20260420T181650
CREATED:20220212T151852Z
LAST-MODIFIED:20220212T152028Z
UID:2795-1646492400-1646510400@www.craftunity.si
SUMMARY:Ognjeni zmaj
DESCRIPTION:Na velikem vrtu Točilnice Loo-Blah-Nah bo tokrat povsod gorelo. Zakurili bomo več odprtih ognjev in zagorelo bo več kovaških peči.\nS pomočjo ognja bomo:\nKOVALI – znana kovača Luka in Timotej bosta v živo ročno kovala in predstavila tehnike te starodavne obrti ter razstavila nekaj svojih izdelkov\nVARILI – s pomočjo razbeljenih kamnov in starodavnega znanja bomo v živo kuhali staro slovansko pivo STEINBIER\nPEKLI – nad ognjem bomo pekli enoločnico in demonstrirali različne tehnike peke nad odprtem ognju
URL:https://www.craftunity.si/dogodki/ognjeni-zmaj/
LOCATION:Točilnica Loo-Blah-Nah\, Cesta 24. junija 25\, Ljubljana\, 1000\, Slovenia
CATEGORIES:Hrana in pivo
ATTACH;FMTTYPE=image/jpeg:https://www.craftunity.si/wp-content/uploads/2022/02/273395694_2197192923766843_7538713104599147490_n.jpg
END:VEVENT
BEGIN:VEVENT
DTSTART;TZID=Europe/Helsinki:20211112T150000
DTEND;TZID=Europe/Helsinki:20211113T220000
DTSTAMP:20260420T181650
CREATED:20211024T151430Z
LAST-MODIFIED:20211024T151431Z
UID:2054-1636729200-1636840800@www.craftunity.si
SUMMARY:Billie's Craft Beer Fest
DESCRIPTION:Billie’s Craft Beer Fest je prvi večji craft pivovarski dogodek v Antwerpnu. Za dva dneva se mesto spremeni v meko ljubiteljev craft piva iz celotnega sveta. Predstavljenih bo 50 craft pivovarn iz celotnega sveta. 
URL:https://www.craftunity.si/dogodki/billies-craft-beer-fest/
LOCATION:150 Rijnkaai Antwerpen
CATEGORIES:Hrana in pivo
ATTACH;FMTTYPE=image/jpeg:https://www.craftunity.si/wp-content/uploads/2021/10/486861654-1.jpg
END:VEVENT
BEGIN:VEVENT
DTSTART;TZID=Europe/Helsinki:20211001T080000
DTEND;TZID=Europe/Helsinki:20211001T170000
DTSTAMP:20260420T181650
CREATED:20210815T151421Z
LAST-MODIFIED:20210825T182333Z
UID:775-1633075200-1633107600@www.craftunity.si
SUMMARY:Festival piva in kranjske klobase
DESCRIPTION:Rovi pod starim Kranjem so prizorišče Festivala piva in klobase\, ki združi pivoljube ter ljubitelje slastne klobase. \nTermin bo objavljen naknadno
URL:https://www.craftunity.si/dogodki/festival-piva-in-kranjske-klobase/
LOCATION:Rovi pod starim Kranjem\, Ljubljanska cesta 2\, Kranj\, Kranj\, 4000
CATEGORIES:Hrana in pivo
ATTACH;FMTTYPE=image/jpeg:https://www.craftunity.si/wp-content/uploads/2021/08/pivo-in-kranjska-klobasa.jpg
END:VEVENT
BEGIN:VEVENT
DTSTART;TZID=Europe/Helsinki:20210916T180000
DTEND;TZID=Europe/Helsinki:20210916T233000
DTSTAMP:20260420T181650
CREATED:20210907T185327Z
LAST-MODIFIED:20210907T185408Z
UID:1789-1631815200-1631835000@www.craftunity.si
SUMMARY:PIVO V ŽIVO!
DESCRIPTION:Žejno vabljeni na delno dobro delno* predstavitev in pokušino novega razkošnega zvarka iz Tektonikove Odprte lige: \n𝐎𝐋#𝟓𝟏 – 𝐃𝐃𝐇 𝐏𝐀𝐋𝐄 𝐀𝐋𝐄 \nPošteno zahmeljeno\, dvojno opojno.Prvi sod je brezplačen!!! Kdor prej pije\, prvi pride. \nZa zabavo\, razvrat in ljubezen v zraku bodo poskrbeli še 𝐃𝐉 𝐔𝐝𝐨 𝐁𝐫𝐞𝐧𝐧𝐞𝐫 (Zeleno sonce) ter slastni prigrizki – najboljši čiketi v mestu. \nV četrtek\, 𝟏𝟔. 𝟗. 𝟐𝟎𝟐𝟏 𝐨𝐝 𝟏𝟖𝐡 𝐝𝐚𝐥𝐣𝐞 v izvirnem pivotoču 𝐓𝐄𝐊𝐓𝐎𝐍𝐈𝐗\, Likozarjeva 1. \n(*ker dobro dene)
URL:https://www.craftunity.si/dogodki/pivo-v-zivo/
CATEGORIES:Hrana in pivo
ATTACH;FMTTYPE=image/jpeg:https://www.craftunity.si/wp-content/uploads/2021/09/241400543_4145612122203787_4715806619362163168_n.jpg
END:VEVENT
BEGIN:VEVENT
DTSTART;TZID=Europe/Helsinki:20210904T000000
DTEND;TZID=Europe/Helsinki:20210905T235959
DTSTAMP:20260420T181650
CREATED:20210815T153146Z
LAST-MODIFIED:20210825T182505Z
UID:790-1630713600-1630886399@www.craftunity.si
SUMMARY:Pivo in burger fest
DESCRIPTION:4. in 5. septembra\, se bo na Pogačarjevem trgu odvil 14. Pivo & Burger Fest! Ves vikend se bomo pozibavali ob fini glasbi\, se urili v preprijemanju sočnih burgerjev in balansiranju kozarcev piva\, risali razpredelnice za podeljevanje zlatih zvezdic in glasno vzklikali na zdravje dragim pivoburgerskim prijateljem\, ki smo jih tako zelo pogrešali.
URL:https://www.craftunity.si/dogodki/pivo-in-burger-fest/
LOCATION:Pogačarjev trg\, Pogačarjev trg\, Ljubljana\, 1000
CATEGORIES:Hrana in pivo
ATTACH;FMTTYPE=image/jpeg:https://www.craftunity.si/wp-content/uploads/2021/08/pivo-burger-fest-2021_728x548.jpg
END:VEVENT
BEGIN:VEVENT
DTSTART;TZID=Europe/Helsinki:20210903T000000
DTEND;TZID=Europe/Helsinki:20210905T235959
DTSTAMP:20260420T181650
CREATED:20210815T160334Z
LAST-MODIFIED:20210825T182514Z
UID:818-1630627200-1630886399@www.craftunity.si
SUMMARY:Zagreb Beer Fest 2021
DESCRIPTION:Največji festival Craft piva\, ki se bo odvijal v centru Zagreba. Vstop je brezplačen.
URL:https://www.craftunity.si/dogodki/zagreb-beer-fest-2021/
LOCATION:Trg Francuske Republike\, Trg Francuske Republike\, Zagreb\, 10000\, Croatia (Local Name: Hrvatska)
CATEGORIES:Hrana in pivo
ATTACH;FMTTYPE=image/jpeg:https://www.craftunity.si/wp-content/uploads/2021/08/zagreb-beer-fest.jpg
END:VEVENT
BEGIN:VEVENT
DTSTART;TZID=Europe/Helsinki:20210828T080000
DTEND;TZID=Europe/Helsinki:20210828T170000
DTSTAMP:20260420T181650
CREATED:20210815T145922Z
LAST-MODIFIED:20210825T182527Z
UID:747-1630137600-1630170000@www.craftunity.si
SUMMARY:Pohod po hmeljski poti
DESCRIPTION:Zadnja avgustovska sobota je že tradicionalni datum Pohoda po hmeljski poti. Start tradicionalnega pohoda je pri Ekomuzeju hmeljarstva in pivovarstva Slovenije. V prijavnino 12\,00 € je vključeno uporabno darilo\, okrepčila ob poti\, ogled Ekomuzeja hmeljarstva in pivovarstva Slovenije\, ogled Rimske nekropole\, malica na cilju. Udeležba na pohodu možna le s predložitvijo PCT (preboleli\, cepljeni\, testirani) dokazila.
URL:https://www.craftunity.si/dogodki/pohod-po-hmeljski-poti/
LOCATION:Ekomuzej hmeljarstva in pivovarstva Slovenije\, Cesta Žalskega tabora 2\, Žalec\, 3310
CATEGORIES:Hrana in pivo
ATTACH;FMTTYPE=image/jpeg:https://www.craftunity.si/wp-content/uploads/2021/08/23-pohod_po_hmeljski_poti_zalec_neaculpa_re.jpg
END:VEVENT
BEGIN:VEVENT
DTSTART;TZID=Europe/Helsinki:20210528T000000
DTEND;TZID=Europe/Helsinki:20211029T235959
DTSTAMP:20260420T181650
CREATED:20210815T152320Z
LAST-MODIFIED:20210825T182557Z
UID:781-1622160000-1635551999@www.craftunity.si
SUMMARY:Odprta kuhna
DESCRIPTION:Odprta kuhna je gurmanska kulinarična tržnica\, ki ob petkih na Pogačarjev trg v Ljubljani (nekajkrat letno pa tudi v središča drugih slovenskih mest) prinaša dobrote najboljših obedovalnic z vseh koncev dežele.
URL:https://www.craftunity.si/dogodki/odprta-kuhna/
LOCATION:Pogačarjev trg\, Pogačarjev trg\, Ljubljana\, 1000
CATEGORIES:Hrana in pivo
ATTACH;FMTTYPE=image/png:https://www.craftunity.si/wp-content/uploads/2021/08/odprta-kuhna.png
END:VEVENT
END:VCALENDAR