BEGIN:VCALENDAR
VERSION:2.0
PRODID:-//CraftUnity.si - ECPv6.2.4//NONSGML v1.0//EN
CALSCALE:GREGORIAN
METHOD:PUBLISH
X-ORIGINAL-URL:https://www.craftunity.si
X-WR-CALDESC:Events for CraftUnity.si
REFRESH-INTERVAL;VALUE=DURATION:PT1H
X-Robots-Tag:noindex
X-PUBLISHED-TTL:PT1H
BEGIN:VTIMEZONE
TZID:Europe/Paris
BEGIN:DAYLIGHT
TZOFFSETFROM:+0100
TZOFFSETTO:+0200
TZNAME:CEST
DTSTART:20230326T010000
END:DAYLIGHT
BEGIN:STANDARD
TZOFFSETFROM:+0200
TZOFFSETTO:+0100
TZNAME:CET
DTSTART:20231029T010000
END:STANDARD
TZID:Europe/Helsinki
BEGIN:DAYLIGHT
TZOFFSETFROM:+0200
TZOFFSETTO:+0300
TZNAME:EEST
DTSTART:20210328T010000
END:DAYLIGHT
BEGIN:STANDARD
TZOFFSETFROM:+0300
TZOFFSETTO:+0200
TZNAME:EET
DTSTART:20211031T010000
END:STANDARD
BEGIN:DAYLIGHT
TZOFFSETFROM:+0200
TZOFFSETTO:+0300
TZNAME:EEST
DTSTART:20220327T010000
END:DAYLIGHT
BEGIN:STANDARD
TZOFFSETFROM:+0300
TZOFFSETTO:+0200
TZNAME:EET
DTSTART:20221030T010000
END:STANDARD
END:VTIMEZONE
BEGIN:VEVENT
DTSTART;TZID=Europe/Paris:20231128T000000
DTEND;TZID=Europe/Paris:20231130T235959
DTSTAMP:20260424T113702
CREATED:20210418T171138Z
LAST-MODIFIED:20221109T212218Z
UID:384-1701129600-1701388799@www.craftunity.si
SUMMARY:BrauBeviale 2022
DESCRIPTION:Največji sejem s področja pivovarstva na svetu\, ki vsakoletno poteka na nuremberškem sejmišču. Sejem\, kjer več kot 1.000 razstavljalcev svoje storitve in produkte predstavlja na 85.000 kvadratnih metrih velikem sejmišču\, letno obišče več kot 40.000 obiskovalcev. \nCena vstopnic za obiskovalce: \n\n1-dnevna karta: 40 €\n3-dnevna karta: 50 €\nštudentska vstopnica: 10 €
URL:https://www.craftunity.si/dogodki/braubeviale-2022/
LOCATION:Nuremberg sejmišče\, Exhibition Centre\, Nürnberg\, 90471\, Germany
CATEGORIES:Sejmi
ATTACH;FMTTYPE=image/png:https://www.craftunity.si/wp-content/uploads/2021/04/brau.png
END:VEVENT
BEGIN:VEVENT
DTSTART;TZID=Europe/Helsinki:20220912T000000
DTEND;TZID=Europe/Helsinki:20220916T235959
DTSTAMP:20260424T113702
CREATED:20220212T151220Z
LAST-MODIFIED:20220212T152018Z
UID:2794-1662940800-1663372799@www.craftunity.si
SUMMARY:Drinktec
DESCRIPTION:Drinktec je eden največji mednarodnih sejmov opreme in novih tehnologij namenjenih industriji pijač in pivovarstva. Dogodek se bo odvijal na glavnem sejmišču v Munchenu. Na sejmu se bodo predstavili proizvajalci opreme\, pridelovalci surovin\, zastopniki različnih blagnovnih znamk in drugi\, ki so tako ali drugače povezani z industrijo. Ker je letošnji BrauBeviale že bil odpovedan\, bo to največji tovrstni sejem letos.  \nCene vstopnic se gibljejo od 34-135 €.
URL:https://www.craftunity.si/dogodki/drinktec/
LOCATION:Messe Munchen\, Am Messeturm\, Munchen\, 81823\, Germany
CATEGORIES:Sejmi
ATTACH;FMTTYPE=image/jpeg:https://www.craftunity.si/wp-content/uploads/2022/02/s600.jpeg
END:VEVENT
BEGIN:VEVENT
DTSTART;TZID=Europe/Helsinki:20220529T080000
DTEND;TZID=Europe/Helsinki:20220601T170000
DTSTAMP:20260424T113702
CREATED:20210906T074407Z
LAST-MODIFIED:20210907T181944Z
UID:1775-1653811200-1654102800@www.craftunity.si
SUMMARY:Brewers Forum & 38th EBC Congress
DESCRIPTION:Pivovarski forum v Madridu je eden največjih dogodkov povezanih s pivovarsko industrijo v Evropi. Kongresni in sejemski del ponujata odlično priložnost za druženje in mreženje s potencialnimi kupci in dobavitelji. Forum ponuja: \n\nKonferenčni del\nPredstavitve s področja znanstvenih raziskav v pivovarski industriji\nPriložnost za mreženje\nSejemski del s stojnicami proizvajalcev ter dobaviteljev opreme in surovin\n\n  \nCene vstopnic bodo znane v začetku prihodnjega leta.
URL:https://www.craftunity.si/dogodki/brewers-forum-38th-ebc-congress/
LOCATION:IFEMA Municipal Palace\, Av. Capital de España 7\, Madrid\, 28042\, Spain
CATEGORIES:Izobraževanja,Sejmi
ATTACH;FMTTYPE=image/png:https://www.craftunity.si/wp-content/uploads/2021/09/logo-ebc-congress-2022.png
END:VEVENT
BEGIN:VEVENT
DTSTART;TZID=Europe/Helsinki:20220526T000000
DTEND;TZID=Europe/Helsinki:20220529T235959
DTSTAMP:20260424T113702
CREATED:20220425T072352Z
LAST-MODIFIED:20220425T072357Z
UID:3208-1653523200-1653868799@www.craftunity.si
SUMMARY:Kraft Beer Festival 2022
DESCRIPTION:Štiridnevni festival craft piva v Budimpešti bo tokrat potekal v znamenitem Dürer Garden prizorišču. Na festivalu se bo predstavilo več kot 30 craft pivovarn iz Madžarske in bližnje soseščine. Zraven ne bodo manjkali tudi distributerji zanimivih piv iz celotnega sveta.
URL:https://www.craftunity.si/dogodki/kraft-beer-festival-2022/
LOCATION:BPBW\, Öböl utca 1\, Budapest\, 1117\, Hungary
CATEGORIES:Sejmi
ATTACH;FMTTYPE=image/jpeg:https://www.craftunity.si/wp-content/uploads/2022/04/271817986_963210467644172_8435807637934012479_n-1.jpg
END:VEVENT
BEGIN:VEVENT
DTSTART;TZID=Europe/Helsinki:20211102T080000
DTEND;TZID=Europe/Helsinki:20211104T170000
DTSTAMP:20260424T113702
CREATED:20211024T152157Z
LAST-MODIFIED:20211024T152159Z
UID:2061-1635840000-1636045200@www.craftunity.si
SUMMARY:Beerex Ukraine International Beer Exhibition
DESCRIPTION:Konferenca in sejem namenjena industrijski in craft pivovarski industriji. Dogodek je namenjen distributerjem\, prodajalcem\, restavracijam in drugim tako ali drugače povezanih s pivovarsko industrijo. Dogodek je primeren za razširitev svoje prodajne mreže v Ukrajini in širše v vzhodni Evropi. Na sejmu bo prisotnih več kot 500 razstavljalcev. 
URL:https://www.craftunity.si/dogodki/beerex-ukraine-international-beer-exhibition/
LOCATION:International Exhibition Center (IEC)\, IEC\, 15 BROVARSKY AVE\, Kiev\, 02000\, Ukraine
CATEGORIES:Sejmi
ATTACH;FMTTYPE=image/jpeg:https://www.craftunity.si/wp-content/uploads/2021/10/beer-ex.jpg
END:VEVENT
END:VCALENDAR